Workbook

Sheet Cylce Menu
B1: Monday | C1: Tuesday | D1: Wednesday | E1: Thursday | F1: Friday
B2: Turkey and Cheese | C2: Hot Dog | D2: Bosco Stick | E2: Chicken Patty | F2: Pizza
B3: WG Bread | C3: WG Bun | D3: Marinara Sauce | E3: WG Bun | F3: Corn
A4: Week 1 | B4: Baby Carrots | C4: Baked Beans | D4: Cucumber slices | E4: French Fries | F4: Caesar Salad
B5: Fruit | C5: Fruit | D5: Fruit | E5: Fruit | F5: Fruit
B20: LF Milk | C20: LF Milk | D20: LF Milk | E20: LF Milk | F20: LF Milk
B21: Choc Milk | C21: Choc Milk | D21: Choc Milk | E21: Choc Milk | F21: Choc Milk
A22: Week 2 | B22: Turkey and Cheese | C22: Hot Dog | D22: Bosco Stick | E22: Chicken Patty | F22: Pizza
B23: WG Bread | C23: WG Bun | D23: Marinara Sauce | E23: WG Bun | F23: Corn
B24: Baby Carrots | C24: Baked Beans | D24: Cucumber slices | E24: French Fries | F24: Caesar Salad
B25: Fruit | C25: Fruit | D25: Fruit | E25: Fruit | F25: Fruit
B40: LF Milk | C40: LF Milk | D40: LF Milk | E40: LF Milk | F40: LF Milk
B41: Choc Milk | C41: Choc Milk | D41: Choc Milk | E41: Choc Milk | F41: Choc Milk
A42: Week 3 | B42: Turkey and Cheese | C42: Hot Dog | D42: Bosco Stick | E42: Chicken Patty | F42: Pizza
B43: WG Bread | C43: WG Bun | D43: Marinara Sauce | E43: WG Bun | F43: Corn
B44: Baby Carrots | C44: Baked Beans | D44: Cucumber slices | E44: French Fries | F44: Caesar Salad
B45: Fruit | C45: Fruit | D45: Fruit | E45: Fruit | F45: Fruit
B60: LF Milk | C60: LF Milk | D60: LF Milk | E60: LF Milk | F60: LF Milk
B61: Choc Milk | C61: Choc Milk | D61: Choc Milk | E61: Choc Milk | F61: Choc Milk
A62: Week 4 | B62: Turkey and Cheese | C62: Hot Dog | D62: Bosco Stick | E62: Chicken Patty | F62: Pizza
B63: WG Bread | C63: WG Bun | D63: Marinara Sauce | E63: WG Bun | F63: Corn
B64: Baby Carrots | C64: Baked Beans | D64: Cucumber slices | E64: French Fries | F64: Caesar Salad
B65: Fruit | C65: Fruit | D65: Fruit | E65: Fruit | F65: Fruit
B80: LF Milk | C80: LF Milk | D80: LF Milk | E80: LF Milk | F80: LF Milk
B81: Choc Milk | C81: Choc Milk | D81: Choc Milk | E81: Choc Milk | F81: Choc Milk
A82: Week 5 | B82: Turkey and Cheese | C82: Hot Dog | D82: Bosco Stick | E82: Chicken Patty | F82: Pizza
B83: WG Bread | C83: WG Bun | D83: Marinara Sauce | E83: WG Bun | F83: Corn
B84: Baby Carrots | C84: Baked Beans | D84: Cucumber slices | E84: French Fries | F84: Caesar Salad
B85: Fruit | C85: Fruit | D85: Fruit | E85: Fruit | F85: Fruit
B100: LF Milk | C100: LF Milk | D100: LF Milk | E100: LF Milk | F100: LF Milk
B101: Choc Milk | C101: Choc Milk | D101: Choc Milk | E101: Choc Milk | F101: Choc Milk

Sheet Week 1 PR
B1: Production Record
B2: Date | F2: MENU: | P2: MEAL
P3: BREAKFAST / LUNCH
B4: Preparation Site
R5: Planned | T5: Served
B7: OFFER VS. SERVE? YES or NO | D7: Grades | P7: Reimbursable
P8: Seconds/Adults
P9: Total
B14: Menu Item | C14: Recipe # or Product Name and # | D14: Serving Size | E14: Quantity to Prepare (lbs, ozs, etc) | F14: COMPONENT CREDITING | P14: SERVINGS | T14: TEMPERATURES
F15: M/MA (oz eq) | G15: Grain (oz eq) | H15: Fruit (cup) | I15: Dark Green (cup) | J15: Red/Orange (cup) | K15: Bn/Pea/Lntl (cup) | L15: Starchy (cup) | M15: Other Veg (cup) | N15: Veg Total | O15: Milk Choice (oz eq) | P15: Prepared Servings | Q15: Actual Served | R15: Leftover Servings | S15: Discard | T15: Start | U15: End
B16: =('Cylce Menu'!B2) -> Turkey and Cheese
B17: =('Cylce Menu'!B3) -> WG Bread
B18: =('Cylce Menu'!B4) -> Baby Carrots
B19: =('Cylce Menu'!B5) -> Fruit
B20: =('Cylce Menu'!B6) -> 0
B21: =('Cylce Menu'!B7) -> 0
B22: =('Cylce Menu'!B8) -> 0
B23: =('Cylce Menu'!B9) -> 0
B24: =('Cylce Menu'!B10) -> 0
B25: =('Cylce Menu'!B11) -> 0
B26: =('Cylce Menu'!B12) -> 0
B27: =('Cylce Menu'!B13) -> 0
... B35: =('Cylce Menu'!B21) -> Choc Milk
B36: Notes:
B39: Production Record
B40: Date | F40: MENU: | P40: MEAL
P41: BREAKFAST / LUNCH
B42: Preparation Site
R43: Planned | T43: Served
B45: OFFER VS. SERVE? YES or NO | D45: Grades | P45: Reimbursable
P46: Seconds/Adults
P47: Total
B52: Menu Item | C52: Recipe # or Product Name and # | D52: Serving Size | E52: Quantity to Prepare (lbs, ozs, etc) | F52: COMPONENT CREDITING | P52: SERVINGS | T52: TEMPERATURES
F53: M/MA (oz eq) | G53: Grain (oz eq) | H53: Fruit (cup) | I53: Dark Green (cup) | J53: Red/Orange (cup) | K53: Bn/Pea/Lntl (cup) | L53: Starchy (cup) | M53: Other Veg (cup) | N53: Veg Total | O53: Milk Choice (oz eq) | P53: Prepared Servings | Q53: Actual Served | R53: Leftover Servings | S53: Discard | T53: Start | U53: End
B54: ='Cylce Menu'!C2 -> Hot Dog | D54: 1 ea
B55: ='Cylce Menu'!C3 -> WG Bun | D55: 1 ea
B56: ='Cylce Menu'!C4 -> Baked Beans | D56: 3/4 cup
B57: ='Cylce Menu'!C5 -> Fruit | D57: 1/2 cup
B58: ='Cylce Menu'!C6 -> 0 | D58: 8 oz
B59: ='Cylce Menu'!C21 -> Choc Milk | D59: 8 oz
...

Sheet Week 2 PR
B1: Production Record
B2: Date | F2: MENU: | P2: MEAL
P3: BREAKFAST / LUNCH
B4: Preparation Site
R5: Planned | T5: Served
B7: OFFER VS. SERVE? YES or NO | D7: Grades | P7: Reimbursable
P8: Seconds/Adults
P9: Total
B14: Menu Item | C14: Recipe # or Product Name and # | D14: Serving Size | E14: Quantity to Prepare (lbs, ozs, etc) | F14: COMPONENT CREDITING | P14: SERVINGS | T14: TEMPERATURES
F15: M/MA (oz eq) | G15: Grain (oz eq) | H15: Fruit (cup) | I15: Dark Green (cup) | J15: Red/Orange (cup) | K15: Bn/Pea/Lntl (cup) | L15: Starchy (cup) | M15: Other Veg (cup) | N15: Veg Total | O15: Milk Choice (oz eq) | P15: Prepared Servings | Q15: Actual Served | R15: Leftover Servings | S15: Discard | T15: Start | U15: End
B16: ='Cylce Menu'!B22 -> Turkey and Cheese
B17: ='Cylce Menu'!B23 -> WG Bread
B18: ='Cylce Menu'!B24 -> Baby Carrots
B19: ='Cylce Menu'!B25 -> Fruit
B20: ='Cylce Menu'!B26 -> 0
B21: ='Cylce Menu'!B27 -> 0
B22: ='Cylce Menu'!B28 -> 0
B23: ='Cylce Menu'!B29 -> 0
B24: ='Cylce Menu'!B30 -> 0
B25: ='Cylce Menu'!B31 -> 0
B26: ='Cylce Menu'!B32 -> 0
B27: ='Cylce Menu'!B33 -> 0
... B34: ='Cylce Menu'!B40 -> LF Milk
B35: ='Cylce Menu'!B41 -> Choc Milk | D35: 8oz
B36: Notes:
B39: Production Record
B40: Date | F40: MENU: | P40: MEAL
P41: BREAKFAST / LUNCH
B42: Preparation Site
R43: Planned | T43: Served
B45: OFFER VS. SERVE? YES or NO | D45: Grades | P45: Reimbursable
P46: Seconds/Adults
P47: Total
B52: Menu Item | C52: Recipe # or Product Name and # | D52: Serving Size | E52: Quantity to Prepare (lbs, ozs, etc) | F52: COMPONENT CREDITING | P52: SERVINGS | T52: TEMPERATURES
F53: M/MA (oz eq) | G53: Grain (oz eq) | H53: Fruit (cup) | I53: Dark Green (cup) | J53: Red/Orange (cup) | K53: Bn/Pea/Lntl (cup) | L53: Starchy (cup) | M53: Other Veg (cup) | N53: Veg Total | O53: Milk Choice (oz eq) | P53: Prepared Servings | Q53: Actual Served | R53: Leftover Servings | S53: Discard | T53: Start | U53: End
B54: ='Cylce Menu'!C22 -> Hot Dog
B55: ='Cylce Menu'!C23 -> WG Bun
B56: ='Cylce Menu'!C24 -> Baked Beans
B57: ='Cylce Menu'!C25 -> Fruit
B58: ='Cylce Menu'!C26 -> 0
...

Sheet Week 3 PR
B1: Production Record
B2: Date | F2: MENU: | P2: MEAL
P3: BREAKFAST / LUNCH
B4: Preparation Site
R5: Planned | T5: Served
B7: OFFER VS. SERVE? YES or NO | D7: Grades | P7: Reimbursable
P8: Seconds/Adults
P9: Total
B14: Menu Item | C14: Recipe # or Product Name and # | D14: Serving Size | E14: Quantity to Prepare (lbs, ozs, etc) | F14: COMPONENT CREDITING | P14: SERVINGS | T14: TEMPERATURES
F15: M/MA (oz eq) | G15: Grain (oz eq) | H15: Fruit (cup) | I15: Dark Green (cup) | J15: Red/Orange (cup) | K15: Bn/Pea/Lntl (cup) | L15: Starchy (cup) | M15: Other Veg (cup) | N15: Veg Total | O15: Milk Choice (oz eq) | P15: Prepared Servings | Q15: Actual Served | R15: Leftover Servings | S15: Discard | T15: Start | U15: End
B16: ='Cylce Menu'!B42 -> Turkey and Cheese
B17: ='Cylce Menu'!B43 -> WG Bread
B18: ='Cylce Menu'!B44 -> Baby Carrots
B19: ='Cylce Menu'!B45 -> Fruit
B20: ='Cylce Menu'!B46 -> 0
B21: ='Cylce Menu'!B47 -> 0
B22: ='Cylce Menu'!B48 -> 0
B23: ='Cylce Menu'!B49 -> 0
B24: ='Cylce Menu'!B50 -> 0
B25: ='Cylce Menu'!B51 -> 0
B26: ='Cylce Menu'!B52 -> 0
B27: ='Cylce Menu'!B53 -> 0
... B34: ='Cylce Menu'!B60 -> LF Milk
B35: ='Cylce Menu'!B61 -> Choc Milk | D35: 8oz
B36: Notes:
B39: Production Record
B40: Date | F40: MENU: | P40: MEAL
P41: BREAKFAST / LUNCH
B42: Preparation Site
R43: Planned | T43: Served
B45: OFFER VS. SERVE? YES or NO | D45: Grades | P45: Reimbursable
P46: Seconds/Adults
P47: Total
B52: Menu Item | C52: Recipe # or Product Name and # | D52: Serving Size | E52: Quantity to Prepare (lbs, ozs, etc) | F52: COMPONENT CREDITING | P52: SERVINGS | T52: TEMPERATURES
F53: M/MA (oz eq) | G53: Grain (oz eq) | H53: Fruit (cup) | I53: Dark Green (cup) | J53: Red/Orange (cup) | K53: Bn/Pea/Lntl (cup) | L53: Starchy (cup) | M53: Other Veg (cup) | N53: Veg Total | O53: Milk Choice (oz eq) | P53: Prepared Servings | Q53: Actual Served | R53: Leftover Servings | S53: Discard | T53: Start | U53: End
B54: ='Cylce Menu'!C42 -> Hot Dog
B55: ='Cylce Menu'!C43 -> WG Bun
B56: ='Cylce Menu'!C44 -> Baked Beans
B57: ='Cylce Menu'!C45 -> Fruit
B58: ='Cylce Menu'!C46 -> 0
...

Sheet Week 4 PR
B1: Production Record
B2: Date | F2: MENU: | P2: MEAL
P3: BREAKFAST / LUNCH
B4: Preparation Site
R5: Planned | T5: Served
B7: OFFER VS. SERVE? YES or NO | D7: Grades | P7: Reimbursable
P8: Seconds/Adults
P9: Total
B14: Menu Item | C14: Recipe # or Product Name and # | D14: Serving Size | E14: Quantity to Prepare (lbs, ozs, etc) | F14: COMPONENT CREDITING | P14: SERVINGS | T14: TEMPERATURES
F15: M/MA (oz eq) | G15: Grain (oz eq) | H15: Fruit (cup) | I15: Dark Green (cup) | J15: Red/Orange (cup) | K15: Bn/Pea/Lntl (cup) | L15: Starchy (cup) | M15: Other Veg (cup) | N15: Veg Total | O15: Milk Choice (oz eq) | P15: Prepared Servings | Q15: Actual Served | R15: Leftover Servings | S15: Discard | T15: Start | U15: End
B16: ='Cylce Menu'!B62 -> Turkey and Cheese
B17: ='Cylce Menu'!B63 -> WG Bread
B18: ='Cylce Menu'!B64 -> Baby Carrots
B19: ='Cylce Menu'!B65 -> Fruit
B20: ='Cylce Menu'!B66 -> 0
B21: ='Cylce Menu'!B67 -> 0
B22: ='Cylce Menu'!B68 -> 0
B23: ='Cylce Menu'!B69 -> 0
B24: ='Cylce Menu'!B70 -> 0
B25: ='Cylce Menu'!B71 -> 0
B26: ='Cylce Menu'!B72 -> 0
B27: ='Cylce Menu'!B73 -> 0
... B34: ='Cylce Menu'!B80 -> LF Milk
B35: ='Cylce Menu'!B81 -> Choc Milk | D35: 8oz
B36: Notes:
B39: Production Record
B40: Date | F40: MENU: | P40: MEAL
P41: BREAKFAST / LUNCH
B42: Preparation Site
R43: Planned | T43: Served
B45: OFFER VS. SERVE? YES or NO | D45: Grades | P45: Reimbursable
P46: Seconds/Adults
P47: Total
B52: Menu Item | C52: Recipe # or Product Name and # | D52: Serving Size | E52: Quantity to Prepare (lbs, ozs, etc) | F52: COMPONENT CREDITING | P52: SERVINGS | T52: TEMPERATURES
F53: M/MA (oz eq) | G53: Grain (oz eq) | H53: Fruit (cup) | I53: Dark Green (cup) | J53: Red/Orange (cup) | K53: Bn/Pea/Lntl (cup) | L53: Starchy (cup) | M53: Other Veg (cup) | N53: Veg Total | O53: Milk Choice (oz eq) | P53: Prepared Servings | Q53: Actual Served | R53: Leftover Servings | S53: Discard | T53: Start | U53: End
B54: ='Cylce Menu'!C62 -> Hot Dog
B55: ='Cylce Menu'!C63 -> WG Bun
B56: ='Cylce Menu'!C64 -> Baked Beans
B57: ='Cylce Menu'!C65 -> Fruit
B58: ='Cylce Menu'!C66 -> 0
...

Sheet Week 5 PR
B1: Production Record
B2: Date | F2: MENU: | P2: MEAL
P3: BREAKFAST / LUNCH
B4: Preparation Site
R5: Planned | T5: Served
B7: OFFER VS. SERVE? YES or NO | D7: Grades | P7: Reimbursable
P8: Seconds/Adults
P9: Total
B14: Menu Item | C14: Recipe # or Product Name and # | D14: Serving Size | E14: Quantity to Prepare (lbs, ozs, etc) | F14: COMPONENT CREDITING | P14: SERVINGS | T14: TEMPERATURES
F15: M/MA (oz eq) | G15: Grain (oz eq) | H15: Fruit (cup) | I15: Dark Green (cup) | J15: Red/Orange (cup) | K15: Bn/Pea/Lntl (cup) | L15: Starchy (cup) | M15: Other Veg (cup) | N15: Veg Total | O15: Milk Choice (oz eq) | P15: Prepared Servings | Q15: Actual Served | R15: Leftover Servings | S15: Discard | T15: Start | U15: End
B16: ='Cylce Menu'!B82 -> Turkey and Cheese
B17: ='Cylce Menu'!B83 -> WG Bread
B18: ='Cylce Menu'!B84 -> Baby Carrots
B19: ='Cylce Menu'!B85 -> Fruit
B20: ='Cylce Menu'!B86 -> 0
B21: ='Cylce Menu'!B87 -> 0
B22: ='Cylce Menu'!B88 -> 0
B23: ='Cylce Menu'!B89 -> 0
B24: ='Cylce Menu'!B90 -> 0
B25: ='Cylce Menu'!B91 -> 0
B26: ='Cylce Menu'!B92 -> 0
B27: ='Cylce Menu'!B93 -> 0
... B34: ='Cylce Menu'!B100 -> LF Milk
B35: ='Cylce Menu'!B101 -> Choc Milk | D35: 8oz
B36: Notes:
B39: Production Record
B40: Date | F40: MENU: | P40: MEAL
P41: BREAKFAST / LUNCH
B42: Preparation Site
R43: Planned | T43: Served
B45: OFFER VS. SERVE? YES or NO | D45: Grades | P45: Reimbursable
P46: Seconds/Adults
P47: Total
B52: Menu Item | C52: Recipe # or Product Name and # | D52: Serving Size | E52: Quantity to Prepare (lbs, ozs, etc) | F52: COMPONENT CREDITING | P52: SERVINGS | T52: TEMPERATURES
F53: M/MA (oz eq) | G53: Grain (oz eq) | H53: Fruit (cup) | I53: Dark Green (cup) | J53: Red/Orange (cup) | K53: Bn/Pea/Lntl (cup) | L53: Starchy (cup) | M53: Other Veg (cup) | N53: Veg Total | O53: Milk Choice (oz eq) | P53: Prepared Servings | Q53: Actual Served | R53: Leftover Servings | S53: Discard | T53: Start | U53: End
B54: ='Cylce Menu'!C82 -> Hot Dog
B55: ='Cylce Menu'!C83 -> WG Bun
B56: ='Cylce Menu'!C84 -> Baked Beans
B57: ='Cylce Menu'!C85 -> Fruit
B58: ='Cylce Menu'!C86 -> 0
...
