Workbook

Sheet Cylce Menu
B1: Monday | C1: Tuesday | D1: Wednesday | E1: Thursday | F1: Friday
B2: Turkey and Cheese | C2: Hot Dog | D2: Bosco Stick | E2: Chicken Patty | F2: Pizza
B3: WG Bread | C3: WG Bun | D3: Marinara Sauce | E3: WG Bun | F3: Corn
A4: Week 1 | B4: Baby Carrots | C4: Baked Beans | D4: Cucumber slices | E4: French Fries | F4: Caesar Salad
B5: Fruit | C5: Fruit | D5: Fruit | E5: Fruit | F5: Fruit
B20: LF Milk | C20: LF Milk | D20: LF Milk | E20: LF Milk | F20: LF Milk
B21: Choc Milk | C21: Choc Milk | D21: Choc Milk | E21: Choc Milk | F21: Choc Milk
A22: Week 2 | B22: Turkey and Cheese | C22: Hot Dog | D22: Bosco Stick | E22: Chicken Patty | F22: Pizza
B23: WG Bread | C23: WG Bun | D23: Marinara Sauce | E23: WG Bun | F23: Corn
B24: Baby Carrots | C24: Baked Beans | D24: Cucumber slices | E24: French Fries | F24: Caesar Salad
B25: Fruit | C25: Fruit | D25: Fruit | E25: Fruit | F25: Fruit
B40: LF Milk | C40: LF Milk | D40: LF Milk | E40: LF Milk | F40: LF Milk
B41: Choc Milk | C41: Choc Milk | D41: Choc Milk | E41: Choc Milk | F41: Choc Milk
A42: Week 3 | B42: Turkey and Cheese | C42: Hot Dog | D42: Bosco Stick | E42: Chicken Patty | F42: Pizza
B43: WG Bread | C43: WG Bun | D43: Marinara Sauce | E43: WG Bun | F43: Corn
B44: Baby Carrots | C44: Baked Beans | D44: Cucumber slices | E44: French Fries | F44: Caesar Salad
B45: Fruit | C45: Fruit | D45: Fruit | E45: Fruit | F45: Fruit
B60: LF Milk | C60: LF Milk | D60: LF Milk | E60: LF Milk | F60: LF Milk
B61: Choc Milk | C61: Choc Milk | D61: Choc Milk | E61: Choc Milk | F61: Choc Milk
A62: Week 4 | B62: Turkey and Cheese | C62: Hot Dog | D62: Bosco Stick | E62: Chicken Patty | F62: Pizza
B63: WG Bread | C63: WG Bun | D63: Marinara Sauce | E63: WG Bun | F63: Corn
B64: Baby Carrots | C64: Baked Beans | D64: Cucumber slices | E64: French Fries | F64: Caesar Salad
B65: Fruit | C65: Fruit | D65: Fruit | E65: Fruit | F65: Fruit
B80: LF Milk | C80: LF Milk | D80: LF Milk | E80: LF Milk | F80: LF Milk
B81: Choc Milk | C81: Choc Milk | D81: Choc Milk | E81: Choc Milk | F81: Choc Milk
A82: Week 5 | B82: Turkey and Cheese | C82: Hot Dog | D82: Bosco Stick | E82: Chicken Patty | F82: Pizza
B83: WG Bread | C83: WG Bun | D83: Marinara Sauce | E83: WG Bun | F83: Corn
B84: Baby Carrots | C84: Baked Beans | D84: Cucumber slices | E84: French Fries | F84: Caesar Salad
B85: Fruit | C85: Fruit | D85: Fruit | E85: Fruit | F85: Fruit
B100: LF Milk | C100: LF Milk | D100: LF Milk | E100: LF Milk | F100: LF Milk
B101: Choc Milk | C101: Choc Milk | D101: Choc Milk | E101: Choc Milk | F101: Choc Milk

Sheet Week 1 PR
B1: Production Record
B2: Date | F2: MENU: | P2: MEAL
P3: BREAKFAST / LUNCH
B4: Preparation Site
R5: Planned | T5: Served
B7: OFFER VS. SERVE? YES or NO | D7: Grades | P7: Reimbursable
P8: Seconds/Adults
P9: Total
B14: Menu Item | C14: Recipe # or Product Name and # | D14: Serving Size | E14: Quantity to Prepare (lbs, ozs, etc) | F14: COMPONENT CREDITING | P14: SERVINGS | T14: TEMPERATURES
F15: M/MA (oz eq) | G15: Grain (oz eq) | H15: Fruit (cup) | I15: Dark Green (cup) | J15: Red/Orange (cup) | K15: Bn/Pea/Lntl (cup) | L15: Starchy (cup) | M15: Other Veg (cup) | N15: Veg Total | O15: Milk Choice (oz eq) | P15: Prepared Servings | Q15: Actual Served | R15: Leftover Servings | S15: Discard | T15: Start | U15: End
B16: =('Cylce Menu'!B2) -> Turkey and Cheese
B17: =('Cylce Menu'!B3) -> WG Bread
B18: =('Cylce Menu'!B4) -> Baby Carrots
B19: =('Cylce Menu'!B5) -> Fruit
B20: =('Cylce Menu'!B6) -> 0
B21: =('Cylce Menu'!B7) -> 0
B22: =('Cylce Menu'!B8) -> 0
B23: =('Cylce Menu'!B9) -> 0
B24: =('Cylce Menu'!B10) -> 0
B25: =('Cylce Menu'!B11) -> 0
B26: =('Cylce Menu'!B12) -> 0
B27: =('Cylce Menu'!B13) -> 0
... B35: =('Cylce Menu'!B21) -> Choc Milk
B36: Notes:
B39: Production Record
B40: Date | F40: MENU: | P40: MEAL
P41: BREAKFAST / LUNCH
B42: Preparation Site
R43: Planned | T43: Served
B45: OFFER VS. SERVE? YES or NO | D45: Grades | P45: Reimbursable
P46: Seconds/Adults
P47: Total
B52: Menu Item | C52: Recipe # or Product Name and # | D52: Serving Size | E52: Quantity to Prepare (lbs, ozs, etc) | F52: COMPONENT CREDITING | P52: SERVINGS | T52: TEMPERATURES
F53: M/MA (oz eq) | G53: Grain (oz eq) | H53: Fruit (cup) | I53: Dark Green (cup) | J53: Red/Orange (cup) | K53: Bn/Pea/Lntl (cup) | L53: Starchy (cup) | M53: Other Veg (cup) | N53: Veg Total | O53: Milk Choice (oz eq) | P53: Prepared Servings | Q53: Actual Served | R53: Leftover Servings | S53: Discard | T53: Start | U53: End
B54: ='Cylce Menu'!C2 -> Hot Dog | D54: 1 ea
B55: ='Cylce Menu'!C3 -> WG Bun | D55: 1 ea
B56: ='Cylce Menu'!C4 -> Baked Beans | D56: 3/4 cup
B57: ='Cylce Menu'!C5 -> Fruit | D57: 1/2 cup
B58: ='Cylce Menu'!C6 -> 0 | D58: 8 oz
B59: ='Cylce Menu'!C21 -> Choc Milk | D59: 8 oz
B74: Notes:
B77: Production Record
B78: Date | F78: MENU: | P78: MEAL
P79: BREAKFAST / LUNCH
B80: Preparation Site
R81: Planned | T81: Served
B83: OFFER VS. SERVE? YES or NO | D83: Grades | P83: Reimbursable
P84: Seconds/Adults
P85: Total
B90: Menu Item | C90: Recipe # or Product Name and # | D90: Serving Size | E90: Quantity to Prepare (lbs, ozs, etc) | F90: COMPONENT CREDITING | P90: SERVINGS | T90: TEMPERATURES
F91: M/MA (oz eq) | G91: Grain (oz eq) | H91: Fruit (cup) | I91: Dark Green (cup) | J91: Red/Orange (cup) | K91: Bn/Pea/Lntl (cup) | L91: Starchy (cup) | M91: Other Veg (cup) | N91: Veg Total | O91: Milk Choice (oz eq) | P91: Prepared Servings | Q91: Actual Served | R91: Leftover Servings | S91: Discard | T91: Start | U91: End
B92: ='Cylce Menu'!D2 -> Bosco Stick | D92: 2 ea
B93: ='Cylce Menu'!D3 -> Marinara Sauce | D93: 1/4 cup
B94: ='Cylce Menu'!D4 -> Cucumber slices | D94: 1/2 cup
B95: ='Cylce Menu'!D5 -> Fruit | D95: 1/2 cup
B96: ='Cylce Menu'!D6 -> 0 | D96: 8 oz
B97: ='Cylce Menu'!D21 -> Choc Milk | D97: 8 oz
B112: Notes:
B115: Production Record
B116: Date | F116: MENU: | P116: MEAL
P117: BREAKFAST / LUNCH
B118: Preparation Site
R119: Planned | T119: Served
B121: OFFER VS. SERVE? YES or NO | D121: Grades | P121: Reimbursable
P122: Seconds/Adults
P123: Total
B128: Menu Item | C128: Recipe # or Product Name and # | D128: Serving Size | E128: Quantity to Prepare (lbs, ozs, etc) | F128: COMPONENT CREDITING | P128: SERVINGS | T128: TEMPERATURES
F129: M/MA (oz eq) | G129: Grain (oz eq) | H129: Fruit (cup) | I129: Dark Green (cup) | J129: Red/Orange (cup) | K129: Bn/Pea/Lntl (cup) | L129: Starchy (cup) | M129: Other Veg (cup) | N129: Veg Total | O129: Milk Choice (oz eq) | P129: Prepared Servings | Q129: Actual Served | R129: Leftover Servings | S129: Discard | T129: Start | U129: End
B130: ='Cylce Menu'!E2 -> Chicken Patty | D130: 1 ea
B131: ='Cylce Menu'!E3 -> WG Bun | D131: 1 ea
B132: ='Cylce Menu'!E4 -> French Fries | D132: 3/4 cup
B133: ='Cylce Menu'!E5 -> Fruit | D133: 1/2 cup
B134: ='Cylce Menu'!E6 -> 0 | D134: 8 oz
B135: ='Cylce Menu'!E21 -> Choc Milk | D135: 8 oz
B150: Notes:
B153: Production Record
B154: Date | F154: MENU: | P154: MEAL
P155: BREAKFAST / LUNCH
B156: Preparation Site
R157: Planned | T157: Served
B159: OFFER VS. SERVE? YES or NO | D159: Grades | P159: Reimbursable
P160: Seconds/Adults
P161: Total
B166: Menu Item | C166: Recipe # or Product Name and # | D166: Serving Size | E166: Quantity to Prepare (lbs, ozs, etc) | F166: COMPONENT CREDITING | P166: SERVINGS | T166: TEMPERATURES
F167: M/MA (oz eq) | G167: Grain (oz eq) | H167: Fruit (cup) | I167: Dark Green (cup) | J167: Red/Orange (cup) | K167: Bn/Pea/Lntl (cup) | L167: Starchy (cup) | M167: Other Veg (cup) | N167: Veg Total | O167: Milk Choice (oz eq) | P167: Prepared Servings | Q167: Actual Served | R167: Leftover Servings | S167: Discard | T167: Start | U167: End
B168: ='Cylce Menu'!F2 -> Pizza | D168: 2oz/1oz
B169: ='Cylce Menu'!F3 -> Corn | D169: 2 slices
B170: ='Cylce Menu'!F4 -> Caesar Salad | D170: 3/4 cup
B171: ='Cylce Menu'!F5 -> Fruit | D171: 1/2 cup
B172: ='Cylce Menu'!F6 -> 0 | D172: 8 oz
B173: ='Cylce Menu'!F21 -> Choc Milk | D173: 8 oz
B188: Notes:

Sheet Week 2 PR
B1: Production Record
B2: Date | F2: MENU: | P2: MEAL
P3: BREAKFAST / LUNCH
B4: Preparation Site
R5: Planned | T5: Served
B7: OFFER VS. SERVE? YES or NO | D7: Grades | P7: Reimbursable
P8: Seconds/Adults
P9: Total
B14: Menu Item | C14: Recipe # or Product Name and # | D14: Serving Size | E14: Quantity to Prepare (lbs, ozs, etc) | F14: COMPONENT CREDITING | P14: SERVINGS | T14: TEMPERATURES
F15: M/MA (oz eq) | G15: Grain (oz eq) | H15: Fruit (cup) | I15: Dark Green (cup) | J15: Red/Orange (cup) | K15: Bn/Pea/Lntl (cup) | L15: Starchy (cup) | M15: Other Veg (cup) | N15: Veg Total | O15: Milk Choice (oz eq) | P15: Prepared Servings | Q15: Actual Served | R15: Leftover Servings | S15: Discard | T15: Start | U15: End
B16: ='Cylce Menu'!B22 -> Turkey and Cheese
B17: ='Cylce Menu'!B23 -> WG Bread
B18: ='Cylce Menu'!B24 -> Baby Carrots
B19: ='Cylce Menu'!B25 -> Fruit
B20: ='Cylce Menu'!B26 -> 0
B21: ='Cylce Menu'!B27 -> 0
B22: ='Cylce Menu'!B28 -> 0
B23: ='Cylce Menu'!B29 -> 0
B24: ='Cylce Menu'!B30 -> 0
B25: ='Cylce Menu'!B31 -> 0
B26: ='Cylce Menu'!B32 -> 0
B27: ='Cylce Menu'!B33 -> 0
... B34: ='Cylce Menu'!B40 -> LF Milk
B35: ='Cylce Menu'!B41 -> Choc Milk | D35: 8oz
B36: Notes:
B39: Production Record
B40: Date | F40: MENU: | P40: MEAL
P41: BREAKFAST / LUNCH
B42: Preparation Site
R43: Planned | T43: Served
B45: OFFER VS. SERVE? YES or NO | D45: Grades | P45: Reimbursable
P46: Seconds/Adults
P47: Total
B52: Menu Item | C52: Recipe # or Product Name and # | D52: Serving Size | E52: Quantity to Prepare (lbs, ozs, etc) | F52: COMPONENT CREDITING | P52: SERVINGS | T52: TEMPERATURES
F53: M/MA (oz eq) | G53: Grain (oz eq) | H53: Fruit (cup) | I53: Dark Green (cup) | J53: Red/Orange (cup) | K53: Bn/Pea/Lntl (cup) | L53: Starchy (cup) | M53: Other Veg (cup) | N53: Veg Total | O53: Milk Choice (oz eq) | P53: Prepared Servings | Q53: Actual Served | R53: Leftover Servings | S53: Discard | T53: Start | U53: End
B54: ='Cylce Menu'!C22 -> Hot Dog
B55: ='Cylce Menu'!C23 -> WG Bun
B56: ='Cylce Menu'!C24 -> Baked Beans
B57: ='Cylce Menu'!C25 -> Fruit
B58: ='Cylce Menu'!C26 -> 0
B59: ='Cylce Menu'!C27 -> 0
B60: ='Cylce Menu'!C28 -> 0
B61: ='Cylce Menu'!C29 -> 0
B62: ='Cylce Menu'!C30 -> 0
B63: ='Cylce Menu'!C31 -> 0
B64: ='Cylce Menu'!C32 -> 0
B65: ='Cylce Menu'!C33 -> 0
... B72: ='Cylce Menu'!C40 -> LF Milk
B73: ='Cylce Menu'!C41 -> Choc Milk | D73: 8oz
B74: Notes:
B77: Production Record
B78: Date | F78: MENU: | P78: MEAL
P79: BREAKFAST / LUNCH
B80: Preparation Site
R81: Planned | T81: Served
B83: OFFER VS. SERVE? YES or NO | D83: Grades | P83: Reimbursable
P84: Seconds/Adults
P85: Total
B90: Menu Item | C90: Recipe # or Product Name and # | D90: Serving Size | E90: Quantity to Prepare (lbs, ozs, etc) | F90: COMPONENT CREDITING | P90: SERVINGS | T90: TEMPERATURES
F91: M/MA (oz eq) | G91: Grain (oz eq) | H91: Fruit (cup) | I91: Dark Green (cup) | J91: Red/Orange (cup) | K91: Bn/Pea/Lntl (cup) | L91: Starchy (cup) | M91: Other Veg (cup) | N91: Veg Total | O91: Milk Choice (oz eq) | P91: Prepared Servings | Q91: Actual Served | R91: Leftover Servings | S91: Discard | T91: Start | U91: End
B92: ='Cylce Menu'!D22 -> Bosco Stick
B93: ='Cylce Menu'!D23 -> Marinara Sauce
B94: ='Cylce Menu'!D24 -> Cucumber slices
B95: ='Cylce Menu'!D25 -> Fruit
B96: ='Cylce Menu'!D26 -> 0
B97: ='Cylce Menu'!D27 -> 0
B98: ='Cylce Menu'!D28 -> 0
B99: ='Cylce Menu'!D29 -> 0
B100: ='Cylce Menu'!D30 -> 0
B101: ='Cylce Menu'!D31 -> 0
B102: ='Cylce Menu'!D32 -> 0
B103: ='Cylce Menu'!D33 -> 0
... B110: ='Cylce Menu'!D40 -> LF Milk
B111: ='Cylce Menu'!D41 -> Choc Milk | D111: 8oz
B112: Notes:
B115: Production Record
B116: Date | F116: MENU: | P116: MEAL
P117: BREAKFAST / LUNCH
B118: Preparation Site
R119: Planned | T119: Served
B121: OFFER VS. SERVE? YES or NO | D121: Grades | P121: Reimbursable
P122: Seconds/Adults
P123: Total
B128: Menu Item | C128: Recipe # or Product Name and # | D128: Serving Size | E128: Quantity to Prepare (lbs, ozs, etc) | F128: COMPONENT CREDITING | P128: SERVINGS | T128: TEMPERATURES
F129: M/MA (oz eq) | G129: Grain (oz eq) | H129: Fruit (cup) | I129: Dark Green (cup) | J129: Red/Orange (cup) | K129: Bn/Pea/Lntl (cup) | L129: Starchy (cup) | M129: Other Veg (cup) | N129: Veg Total | O129: Milk Choice (oz eq) | P129: Prepared Servings | Q129: Actual Served | R129: Leftover Servings | S129: Discard | T129: Start | U129: End
B130: ='Cylce Menu'!E22 -> Chicken Patty
B131: ='Cylce Menu'!E23 -> WG Bun
B132: ='Cylce Menu'!E24 -> French Fries
B133: ='Cylce Menu'!E25 -> Fruit
B134: ='Cylce Menu'!E26 -> 0
B135: ='Cylce Menu'!E27 -> 0
B136: ='Cylce Menu'!E28 -> 0
B137: ='Cylce Menu'!E29 -> 0
B138: ='Cylce Menu'!E30 -> 0
B139: ='Cylce Menu'!E31 -> 0
B140: ='Cylce Menu'!E32 -> 0
B141: ='Cylce Menu'!E33 -> 0
... B148: ='Cylce Menu'!E40 -> LF Milk
B149: ='Cylce Menu'!E41 -> Choc Milk | D149: 8oz
B150: Notes:
...

Sheet Week 3 PR
B1: Production Record
B2: Date | F2: MENU: | P2: MEAL
P3: BREAKFAST / LUNCH
B4: Preparation Site
R5: Planned | T5: Served
B7: OFFER VS. SERVE? YES or NO | D7: Grades | P7: Reimbursable
P8: Seconds/Adults
P9: Total
B14: Menu Item | C14: Recipe # or Product Name and # | D14: Serving Size | E14: Quantity to Prepare (lbs, ozs, etc) | F14: COMPONENT CREDITING | P14: SERVINGS | T14: TEMPERATURES
F15: M/MA (oz eq) | G15: Grain (oz eq) | H15: Fruit (cup) | I15: Dark Green (cup) | J15: Red/Orange (cup) | K15: Bn/Pea/Lntl (cup) | L15: Starchy (cup) | M15: Other Veg (cup) | N15: Veg Total | O15: Milk Choice (oz eq) | P15: Prepared Servings | Q15: Actual Served | R15: Leftover Servings | S15: Discard | T15: Start | U15: End
B16: ='Cylce Menu'!B42 -> Turkey and Cheese
B17: ='Cylce Menu'!B43 -> WG Bread
B18: ='Cylce Menu'!B44 -> Baby Carrots
B19: ='Cylce Menu'!B45 -> Fruit
B20: ='Cylce Menu'!B46 -> 0
B21: ='Cylce Menu'!B47 -> 0
B22: ='Cylce Menu'!B48 -> 0
B23: ='Cylce Menu'!B49 -> 0
B24: ='Cylce Menu'!B50 -> 0
B25: ='Cylce Menu'!B51 -> 0
B26: ='Cylce Menu'!B52 -> 0
B27: ='Cylce Menu'!B53 -> 0
... B34: ='Cylce Menu'!B60 -> LF Milk
B35: ='Cylce Menu'!B61 -> Choc Milk | D35: 8oz
B36: Notes:
B39: Production Record
B40: Date | F40: MENU: | P40: MEAL
P41: BREAKFAST / LUNCH
B42: Preparation Site
R43: Planned | T43: Served
B45: OFFER VS. SERVE? YES or NO | D45: Grades | P45: Reimbursable
P46: Seconds/Adults
P47: Total
B52: Menu Item | C52: Recipe # or Product Name and # | D52: Serving Size | E52: Quantity to Prepare (lbs, ozs, etc) | F52: COMPONENT CREDITING | P52: SERVINGS | T52: TEMPERATURES
F53: M/MA (oz eq) | G53: Grain (oz eq) | H53: Fruit (cup) | I53: Dark Green (cup) | J53: Red/Orange (cup) | K53: Bn/Pea/Lntl (cup) | L53: Starchy (cup) | M53: Other Veg (cup) | N53: Veg Total | O53: Milk Choice (oz eq) | P53: Prepared Servings | Q53: Actual Served | R53: Leftover Servings | S53: Discard | T53: Start | U53: End
B54: ='Cylce Menu'!C42 -> Hot Dog
B55: ='Cylce Menu'!C43 -> WG Bun
B56: ='Cylce Menu'!C44 -> Baked Beans
B57: ='Cylce Menu'!C45 -> Fruit
B58: ='Cylce Menu'!C46 -> 0
B59: ='Cylce Menu'!C47 -> 0
B60: ='Cylce Menu'!C48 -> 0
B61: ='Cylce Menu'!C49 -> 0
B62: ='Cylce Menu'!C50 -> 0
B63: ='Cylce Menu'!C51 -> 0
B64: ='Cylce Menu'!C52 -> 0
B65: ='Cylce Menu'!C53 -> 0
... B72: ='Cylce Menu'!C60 -> LF Milk
B73: ='Cylce Menu'!C61 -> Choc Milk | D73: 8oz
B74: Notes:
B77: Production Record
B78: Date | F78: MENU: | P78: MEAL
P79: BREAKFAST / LUNCH
B80: Preparation Site
R81: Planned | T81: Served
B83: OFFER VS. SERVE? YES or NO | D83: Grades | P83: Reimbursable
P84: Seconds/Adults
P85: Total
B90: Menu Item | C90: Recipe # or Product Name and # | D90: Serving Size | E90: Quantity to Prepare (lbs, ozs, etc) | F90: COMPONENT CREDITING | P90: SERVINGS | T90: TEMPERATURES
F91: M/MA (oz eq) | G91: Grain (oz eq) | H91: Fruit (cup) | I91: Dark Green (cup) | J91: Red/Orange (cup) | K91: Bn/Pea/Lntl (cup) | L91: Starchy (cup) | M91: Other Veg (cup) | N91: Veg Total | O91: Milk Choice (oz eq) | P91: Prepared Servings | Q91: Actual Served | R91: Leftover Servings | S91: Discard | T91: Start | U91: End
B92: ='Cylce Menu'!D42 -> Bosco Stick
B93: ='Cylce Menu'!D43 -> Marinara Sauce
B94: ='Cylce Menu'!D44 -> Cucumber slices
B95: ='Cylce Menu'!D45 -> Fruit
B96: ='Cylce Menu'!D46 -> 0
B97: ='Cylce Menu'!D47 -> 0
B98: ='Cylce Menu'!D48 -> 0
B99: ='Cylce Menu'!D49 -> 0
B100: ='Cylce Menu'!D50 -> 0
B101: ='Cylce Menu'!D51 -> 0
B102: ='Cylce Menu'!D52 -> 0
B103: ='Cylce Menu'!D53 -> 0
... B110: ='Cylce Menu'!D60 -> LF Milk
B111: ='Cylce Menu'!D61 -> Choc Milk | D111: 8oz
B112: Notes:
B115: Production Record
B116: Date | F116: MENU: | P116: MEAL
P117: BREAKFAST / LUNCH
B118: Preparation Site
R119: Planned | T119: Served
B121: OFFER VS. SERVE? YES or NO | D121: Grades | P121: Reimbursable
P122: Seconds/Adults
P123: Total
B128: Menu Item | C128: Recipe # or Product Name and # | D128: Serving Size | E128: Quantity to Prepare (lbs, ozs, etc) | F128: COMPONENT CREDITING | P128: SERVINGS | T128: TEMPERATURES
F129: M/MA (oz eq) | G129: Grain (oz eq) | H129: Fruit (cup) | I129: Dark Green (cup) | J129: Red/Orange (cup) | K129: Bn/Pea/Lntl (cup) | L129: Starchy (cup) | M129: Other Veg (cup) | N129: Veg Total | O129: Milk Choice (oz eq) | P129: Prepared Servings | Q129: Actual Served | R129: Leftover Servings | S129: Discard | T129: Start | U129: End
B130: ='Cylce Menu'!E42 -> Chicken Patty
B131: ='Cylce Menu'!E43 -> WG Bun
B132: ='Cylce Menu'!E44 -> French Fries
B133: ='Cylce Menu'!E45 -> Fruit
B134: ='Cylce Menu'!E46 -> 0
B135: ='Cylce Menu'!E47 -> 0
B136: ='Cylce Menu'!E48 -> 0
B137: ='Cylce Menu'!E49 -> 0
B138: ='Cylce Menu'!E50 -> 0
B139: ='Cylce Menu'!E51 -> 0
B140: ='Cylce Menu'!E52 -> 0
B141: ='Cylce Menu'!E53 -> 0
... B148: ='Cylce Menu'!E60 -> LF Milk
B149: ='Cylce Menu'!E61 -> Choc Milk | D149: 8oz
B150: Notes:
...

Sheet Week 4 PR
B1: Production Record
B2: Date | F2: MENU: | P2: MEAL
P3: BREAKFAST / LUNCH
B4: Preparation Site
R5: Planned | T5: Served
B7: OFFER VS. SERVE? YES or NO | D7: Grades | P7: Reimbursable
P8: Seconds/Adults
P9: Total
B14: Menu Item | C14: Recipe # or Product Name and # | D14: Serving Size | E14: Quantity to Prepare (lbs, ozs, etc) | F14: COMPONENT CREDITING | P14: SERVINGS | T14: TEMPERATURES
F15: M/MA (oz eq) | G15: Grain (oz eq) | H15: Fruit (cup) | I15: Dark Green (cup) | J15: Red/Orange (cup) | K15: Bn/Pea/Lntl (cup) | L15: Starchy (cup) | M15: Other Veg (cup) | N15: Veg Total | O15: Milk Choice (oz eq) | P15: Prepared Servings | Q15: Actual Served | R15: Leftover Servings | S15: Discard | T15: Start | U15: End
B16: ='Cylce Menu'!B62 -> Turkey and Cheese
B17: ='Cylce Menu'!B63 -> WG Bread
B18: ='Cylce Menu'!B64 -> Baby Carrots
B19: ='Cylce Menu'!B65 -> Fruit
B20: ='Cylce Menu'!B66 -> 0
B21: ='Cylce Menu'!B67 -> 0
B22: ='Cylce Menu'!B68 -> 0
B23: ='Cylce Menu'!B69 -> 0
B24: ='Cylce Menu'!B70 -> 0
B25: ='Cylce Menu'!B71 -> 0
B26: ='Cylce Menu'!B72 -> 0
B27: ='Cylce Menu'!B73 -> 0
... B34: ='Cylce Menu'!B80 -> LF Milk
B35: ='Cylce Menu'!B81 -> Choc Milk | D35: 8oz
B36: Notes:
B39: Production Record
B40: Date | F40: MENU: | P40: MEAL
P41: BREAKFAST / LUNCH
B42: Preparation Site
R43: Planned | T43: Served
B45: OFFER VS. SERVE? YES or NO | D45: Grades | P45: Reimbursable
P46: Seconds/Adults
P47: Total
B52: Menu Item | C52: Recipe # or Product Name and # | D52: Serving Size | E52: Quantity to Prepare (lbs, ozs, etc) | F52: COMPONENT CREDITING | P52: SERVINGS | T52: TEMPERATURES
F53: M/MA (oz eq) | G53: Grain (oz eq) | H53: Fruit (cup) | I53: Dark Green (cup) | J53: Red/Orange (cup) | K53: Bn/Pea/Lntl (cup) | L53: Starchy (cup) | M53: Other Veg (cup) | N53: Veg Total | O53: Milk Choice (oz eq) | P53: Prepared Servings | Q53: Actual Served | R53: Leftover Servings | S53: Discard | T53: Start | U53: End
B54: ='Cylce Menu'!C62 -> Hot Dog
B55: ='Cylce Menu'!C63 -> WG Bun
B56: ='Cylce Menu'!C64 -> Baked Beans
B57: ='Cylce Menu'!C65 -> Fruit
B58: ='Cylce Menu'!C66 -> 0
B59: ='Cylce Menu'!C67 -> 0
B60: ='Cylce Menu'!C68 -> 0
B61: ='Cylce Menu'!C69 -> 0
B62: ='Cylce Menu'!C70 -> 0
B63: ='Cylce Menu'!C71 -> 0
B64: ='Cylce Menu'!C72 -> 0
B65: ='Cylce Menu'!C73 -> 0
... B72: ='Cylce Menu'!C80 -> LF Milk
B73: ='Cylce Menu'!C81 -> Choc Milk | D73: 8oz
B74: Notes:
B77: Production Record
B78: Date | F78: MENU: | P78: MEAL
P79: BREAKFAST / LUNCH
B80: Preparation Site
R81: Planned | T81: Served
B83: OFFER VS. SERVE? YES or NO | D83: Grades | P83: Reimbursable
P84: Seconds/Adults
P85: Total
B90: Menu Item | C90: Recipe # or Product Name and # | D90: Serving Size | E90: Quantity to Prepare (lbs, ozs, etc) | F90: COMPONENT CREDITING | P90: SERVINGS | T90: TEMPERATURES
F91: M/MA (oz eq) | G91: Grain (oz eq) | H91: Fruit (cup) | I91: Dark Green (cup) | J91: Red/Orange (cup) | K91: Bn/Pea/Lntl (cup) | L91: Starchy (cup) | M91: Other Veg (cup) | N91: Veg Total | O91: Milk Choice (oz eq) | P91: Prepared Servings | Q91: Actual Served | R91: Leftover Servings | S91: Discard | T91: Start | U91: End
B92: ='Cylce Menu'!D62 -> Bosco Stick
B93: ='Cylce Menu'!D63 -> Marinara Sauce
B94: ='Cylce Menu'!D64 -> Cucumber slices
B95: ='Cylce Menu'!D65 -> Fruit
B96: ='Cylce Menu'!D66 -> 0
B97: ='Cylce Menu'!D67 -> 0
B98: ='Cylce Menu'!D68 -> 0
B99: ='Cylce Menu'!D69 -> 0
B100: ='Cylce Menu'!D70 -> 0
B101: ='Cylce Menu'!D71 -> 0
B102: ='Cylce Menu'!D72 -> 0
B103: ='Cylce Menu'!D73 -> 0
... B110: ='Cylce Menu'!D80 -> LF Milk
B111: ='Cylce Menu'!D81 -> Choc Milk | D111: 8oz
B112: Notes:
B115: Production Record
B116: Date | F116: MENU: | P116: MEAL
P117: BREAKFAST / LUNCH
B118: Preparation Site
R119: Planned | T119: Served
B121: OFFER VS. SERVE? YES or NO | D121: Grades | P121: Reimbursable
P122: Seconds/Adults
P123: Total
B128: Menu Item | C128: Recipe # or Product Name and # | D128: Serving Size | E128: Quantity to Prepare (lbs, ozs, etc) | F128: COMPONENT CREDITING | P128: SERVINGS | T128: TEMPERATURES
F129: M/MA (oz eq) | G129: Grain (oz eq) | H129: Fruit (cup) | I129: Dark Green (cup) | J129: Red/Orange (cup) | K129: Bn/Pea/Lntl (cup) | L129: Starchy (cup) | M129: Other Veg (cup) | N129: Veg Total | O129: Milk Choice (oz eq) | P129: Prepared Servings | Q129: Actual Served | R129: Leftover Servings | S129: Discard | T129: Start | U129: End
B130: ='Cylce Menu'!E62 -> Chicken Patty
B131: ='Cylce Menu'!E63 -> WG Bun
B132: ='Cylce Menu'!E64 -> French Fries
B133: ='Cylce Menu'!E65 -> Fruit
B134: ='Cylce Menu'!E66 -> 0
B135: ='Cylce Menu'!E67 -> 0
B136: ='Cylce Menu'!E68 -> 0
B137: ='Cylce Menu'!E69 -> 0
B138: ='Cylce Menu'!E70 -> 0
B139: ='Cylce Menu'!E71 -> 0
B140: ='Cylce Menu'!E72 -> 0
B141: ='Cylce Menu'!E73 -> 0
... B148: ='Cylce Menu'!E80 -> LF Milk
B149: ='Cylce Menu'!E81 -> Choc Milk | D149: 8oz
B150: Notes:
...

Sheet Week 5 PR
B1: Production Record
B2: Date | F2: MENU: | P2: MEAL
P3: BREAKFAST / LUNCH
B4: Preparation Site
R5: Planned | T5: Served
B7: OFFER VS. SERVE? YES or NO | D7: Grades | P7: Reimbursable
P8: Seconds/Adults
P9: Total
B14: Menu Item | C14: Recipe # or Product Name and # | D14: Serving Size | E14: Quantity to Prepare (lbs, ozs, etc) | F14: COMPONENT CREDITING | P14: SERVINGS | T14: TEMPERATURES
F15: M/MA (oz eq) | G15: Grain (oz eq) | H15: Fruit (cup) | I15: Dark Green (cup) | J15: Red/Orange (cup) | K15: Bn/Pea/Lntl (cup) | L15: Starchy (cup) | M15: Other Veg (cup) | N15: Veg Total | O15: Milk Choice (oz eq) | P15: Prepared Servings | Q15: Actual Served | R15: Leftover Servings | S15: Discard | T15: Start | U15: End
B16: ='Cylce Menu'!B82 -> Turkey and Cheese
B17: ='Cylce Menu'!B83 -> WG Bread
B18: ='Cylce Menu'!B84 -> Baby Carrots
B19: ='Cylce Menu'!B85 -> Fruit
B20: ='Cylce Menu'!B86 -> 0
B21: ='Cylce Menu'!B87 -> 0
B22: ='Cylce Menu'!B88 -> 0
B23: ='Cylce Menu'!B89 -> 0
B24: ='Cylce Menu'!B90 -> 0
B25: ='Cylce Menu'!B91 -> 0
B26: ='Cylce Menu'!B92 -> 0
B27: ='Cylce Menu'!B93 -> 0
... B34: ='Cylce Menu'!B100 -> LF Milk
B35: ='Cylce Menu'!B101 -> Choc Milk | D35: 8oz
B36: Notes:
B39: Production Record
B40: Date | F40: MENU: | P40: MEAL
P41: BREAKFAST / LUNCH
B42: Preparation Site
R43: Planned | T43: Served
B45: OFFER VS. SERVE? YES or NO | D45: Grades | P45: Reimbursable
P46: Seconds/Adults
P47: Total
B52: Menu Item | C52: Recipe # or Product Name and # | D52: Serving Size | E52: Quantity to Prepare (lbs, ozs, etc) | F52: COMPONENT CREDITING | P52: SERVINGS | T52: TEMPERATURES
F53: M/MA (oz eq) | G53: Grain (oz eq) | H53: Fruit (cup) | I53: Dark Green (cup) | J53: Red/Orange (cup) | K53: Bn/Pea/Lntl (cup) | L53: Starchy (cup) | M53: Other Veg (cup) | N53: Veg Total | O53: Milk Choice (oz eq) | P53: Prepared Servings | Q53: Actual Served | R53: Leftover Servings | S53: Discard | T53: Start | U53: End
B54: ='Cylce Menu'!C82 -> Hot Dog
B55: ='Cylce Menu'!C83 -> WG Bun
B56: ='Cylce Menu'!C84 -> Baked Beans
B57: ='Cylce Menu'!C85 -> Fruit
B58: ='Cylce Menu'!C86 -> 0
B59: ='Cylce Menu'!C87 -> 0
B60: ='Cylce Menu'!C88 -> 0
B61: ='Cylce Menu'!C89 -> 0
B62: ='Cylce Menu'!C90 -> 0
B63: ='Cylce Menu'!C91 -> 0
B64: ='Cylce Menu'!C92 -> 0
B65: ='Cylce Menu'!C93 -> 0
... B72: ='Cylce Menu'!C100 -> LF Milk
B73: ='Cylce Menu'!C101 -> Choc Milk | D73: 8oz
B74: Notes:
B77: Production Record
B78: Date | F78: MENU: | P78: MEAL
P79: BREAKFAST / LUNCH
B80: Preparation Site
R81: Planned | T81: Served
B83: OFFER VS. SERVE? YES or NO | D83: Grades | P83: Reimbursable
P84: Seconds/Adults
P85: Total
B90: Menu Item | C90: Recipe # or Product Name and # | D90: Serving Size | E90: Quantity to Prepare (lbs, ozs, etc) | F90: COMPONENT CREDITING | P90: SERVINGS | T90: TEMPERATURES
F91: M/MA (oz eq) | G91: Grain (oz eq) | H91: Fruit (cup) | I91: Dark Green (cup) | J91: Red/Orange (cup) | K91: Bn/Pea/Lntl (cup) | L91: Starchy (cup) | M91: Other Veg (cup) | N91: Veg Total | O91: Milk Choice (oz eq) | P91: Prepared Servings | Q91: Actual Served | R91: Leftover Servings | S91: Discard | T91: Start | U91: End
B92: ='Cylce Menu'!D82 -> Bosco Stick
B93: ='Cylce Menu'!D83 -> Marinara Sauce
B94: ='Cylce Menu'!D84 -> Cucumber slices
B95: ='Cylce Menu'!D85 -> Fruit
B96: ='Cylce Menu'!D86 -> 0
B97: ='Cylce Menu'!D87 -> 0
B98: ='Cylce Menu'!D88 -> 0
B99: ='Cylce Menu'!D89 -> 0
B100: ='Cylce Menu'!D90 -> 0
B101: ='Cylce Menu'!D91 -> 0
B102: ='Cylce Menu'!D92 -> 0
B103: ='Cylce Menu'!D93 -> 0
... B110: ='Cylce Menu'!D100 -> LF Milk
B111: ='Cylce Menu'!D101 -> Choc Milk | D111: 8oz
B112: Notes:
B115: Production Record
B116: Date | F116: MENU: | P116: MEAL
P117: BREAKFAST / LUNCH
B118: Preparation Site
R119: Planned | T119: Served
B121: OFFER VS. SERVE? YES or NO | D121: Grades | P121: Reimbursable
P122: Seconds/Adults
P123: Total
B128: Menu Item | C128: Recipe # or Product Name and # | D128: Serving Size | E128: Quantity to Prepare (lbs, ozs, etc) | F128: COMPONENT CREDITING | P128: SERVINGS | T128: TEMPERATURES
F129: M/MA (oz eq) | G129: Grain (oz eq) | H129: Fruit (cup) | I129: Dark Green (cup) | J129: Red/Orange (cup) | K129: Bn/Pea/Lntl (cup) | L129: Starchy (cup) | M129: Other Veg (cup) | N129: Veg Total | O129: Milk Choice (oz eq) | P129: Prepared Servings | Q129: Actual Served | R129: Leftover Servings | S129: Discard | T129: Start | U129: End
B130: ='Cylce Menu'!E82 -> Chicken Patty
B131: ='Cylce Menu'!E83 -> WG Bun
B132: ='Cylce Menu'!E84 -> French Fries
B133: ='Cylce Menu'!E85 -> Fruit
B134: ='Cylce Menu'!E86 -> 0
B135: ='Cylce Menu'!E87 -> 0
B136: ='Cylce Menu'!E88 -> 0
B137: ='Cylce Menu'!E89 -> 0
B138: ='Cylce Menu'!E90 -> 0
B139: ='Cylce Menu'!E91 -> 0
B140: ='Cylce Menu'!E92 -> 0
B141: ='Cylce Menu'!E93 -> 0
... B148: ='Cylce Menu'!E100 -> LF Milk
B149: ='Cylce Menu'!E101 -> Choc Milk | D149: 8oz
B150: Notes:
...
