Workbook

Sheet Staff Totals
C1: Please enter the information below in the CACFP budget | F1: Job Description Allocation %
A2: Tab | B2: Job Title | C2: Total CACFP Hours in 1 month | D2: (B) Operating Tab - Monthly CACFP Hours | E2: (C) Administrative Tab- Monthly CACFP Hours | F2: % Non-CACFP Time | G2: % CACFP Food Service | H2: % CACFP Administrative
A3: Employee 1 | B3: =Employee1!B1 -> 0 | C3: =Employee1!E40 -> 0 | D3: =Employee1!E41 -> 0 | E3: =Employee1!E42 -> 0 | F3: =Employee1!B42 -> #DIV/0! | G3: =Employee1!B43 -> #DIV/0! | H3: =Employee1!B44 -> #DIV/0!
A4: Employee 2 | B4: =Employee2!B1 -> 0 | C4: =Employee2!E40 -> 0 | D4: =Employee2!E41 -> 0 | E4: =Employee2!E42 -> 0 | F4: =Employee2!B42 -> #DIV/0! | G4: =Employee2!B43 -> #DIV/0! | H4: =Employee2!B44 -> #DIV/0!
A5: Employee 3 | B5: =Employee3!B1 -> 0 | C5: =Employee3!E40 -> 0 | D5: =Employee3!E41 -> 0 | E5: =Employee3!E42 -> 0 | F5: =Employee3!B42 -> #DIV/0! | G5: =Employee3!B43 -> #DIV/0! | H5: =Employee3!B44 -> #DIV/0!
A6: Employee 4 | B6: =Employee4!B1 -> 0 | C6: =Employee4!E40 -> 0 | D6: =Employee4!E41 -> 0 | E6: =Employee4!E42 -> 0 | F6: =Employee4!B42 -> #DIV/0! | G6: =Employee4!B43 -> #DIV/0! | H6: =Employee4!B44 -> #DIV/0!
A7: Employee 5 | B7: =Employee5!B1 -> 0 | C7: =Employee5!E40 -> 0 | D7: =Employee5!E41 -> 0 | E7: =Employee5!E42 -> 0 | F7: =Employee5!B42 -> #DIV/0! | G7: =Employee5!B43 -> #DIV/0! | H7: =Employee5!B44 -> #DIV/0!
A8: Employee 6 | B8: =Employee6!B1 -> 0 | C8: =Employee6!E40 -> 0 | D8: =Employee6!E41 -> 0 | E8: =Employee6!E42 -> 0 | F8: =Employee6!B42 -> #DIV/0! | G8: =Employee6!B43 -> #DIV/0! | H8: =Employee6!B44 -> #DIV/0!
A9: Employee 7 | B9: =Employee7!B1 -> 0 | C9: =Employee7!E40 -> 0 | D9: =Employee7!E41 -> 0 | E9: =Employee7!E42 -> 0 | F9: =Employee7!B42 -> #DIV/0! | G9: =Employee7!B43 -> #DIV/0! | H9: =Employee7!B44 -> #DIV/0!
A10: Employee 8 | B10: =Employee8!B1 -> 0 | C10: =Employee8!E40 -> 0 | D10: =Employee8!E41 -> 0 | E10: =Employee7!E42 -> 0 | F10: =Employee8!B42 -> #DIV/0! | G10: =Employee8!B43 -> #DIV/0! | H10: =Employee8!B44 -> #DIV/0!
A11: Employee 9 | B11: =Employee9!B1 -> 0 | C11: =Employee9!E40 -> 0 | D11: =Employee9!E41 -> 0 | E11: =Employee8!E42 -> 0 | F11: =Employee9!B42 -> #DIV/0! | G11: =Employee9!B43 -> #DIV/0! | H11: =Employee9!B44 -> #DIV/0!
A12: Employee 10 | B12: =Employee10!B1 -> 0 | C12: =Employee10!E40 -> 0 | D12: =Employee10!E41 -> 0 | E12: =Employee10!E42 -> 0 | F12: =Employee10!B42 -> #DIV/0! | G12: =Employee10!B43 -> #DIV/0! | H12: =Employee10!B44 -> #DIV/0!
A13: Employee 11 | B13: =Employee11!B1 -> 0 | C13: =Employee11!E40 -> 0 | D13: =Employee11!E41 -> 0 | E13: =Employee11!E42 -> 0 | F13: =Employee11!B42 -> #DIV/0! | G13: =Employee11!B43 -> #DIV/0! | H13: =Employee11!B44 -> #DIV/0!
A14: Employee 12 | B14: =Employee12!B1 -> 0 | C14: =Employee12!E40 -> 0 | D14: =Employee12!E41 -> 0 | E14: =Employee12!E42 -> 0 | F14: =Employee12!B42 -> #DIV/0! | G14: =Employee12!B43 -> #DIV/0! | H14: =Employee12!B44 -> #DIV/0!
A15: Employee 13 | B15: =Employee13!B1 -> 0 | C15: =Employee13!E40 -> 0 | D15: =Employee13!E41 -> 0 | E15: =Employee13!E42 -> 0 | F15: =Employee13!B42 -> #DIV/0! | G15: =Employee13!B43 -> #DIV/0! | H15: =Employee13!B44 -> #DIV/0!
A16: Employee 14 | B16: =Employee14!B1 -> 0 | C16: =Employee14!E40 -> 0 | D16: =Employee14!E41 -> 0 | E16: =Employee14!E42 -> 0 | F16: =Employee14!B42 -> #DIV/0! | G16: =Employee14!B43 -> #DIV/0! | H16: =Employee14!B44 -> #DIV/0!
A17: Employee 15 | B17: =Employee15!B1 -> 0 | C17: =Employee15!E40 -> 0 | D17: =Employee15!E41 -> 0 | E17: =Employee15!E42 -> 0 | F17: =Employee15!B42 -> #DIV/0! | G17: =Employee15!B43 -> #DIV/0! | H17: =Employee15!B44 -> #DIV/0!
A18: Employee 16 | B18: =Employee16!B1 -> 0 | C18: =Employee16!E40 -> 0 | D18: =Employee16!E41 -> 0 | E18: =Employee16!E42 -> 0 | F18: =Employee16!B42 -> #DIV/0! | G18: =Employee16!B43 -> #DIV/0! | H18: =Employee16!B44 -> #DIV/0!
A19: Employee 17 | B19: =Employee17!B1 -> 0 | C19: =Employee17!E40 -> 0 | D19: =Employee17!E41 -> 0 | E19: =Employee17!E42 -> 0 | F19: =Employee17!B42 -> #DIV/0! | G19: =Employee17!B43 -> #DIV/0! | H19: =Employee17!B44 -> #DIV/0!
A20: Employee 18 | B20: =Employee18!B1 -> 0 | C20: =Employee18!E40 -> 0 | D20: =Employee18!E41 -> 0 | E20: =Employee18!E42 -> 0 | F20: =Employee18!B42 -> #DIV/0! | G20: =Employee18!B43 -> #DIV/0! | H20: =Employee18!B44 -> #DIV/0!
A21: Employee 19 | B21: =Employee19!B1 -> 0 | C21: =Employee19!E40 -> 0 | D21: =Employee19!E41 -> 0 | E21: =Employee19!E42 -> 0 | F21: =Employee19!B42 -> #DIV/0! | G21: =Employee19!B43 -> #DIV/0! | H21: =Employee19!B44 -> #DIV/0!
A22: Employee 20 | B22: =Employee20!B1 -> 0 | C22: =Employee20!E40 -> 0 | D22: =Employee20!E41 -> 0 | E22: =Employee20!E42 -> 0 | F22: =Employee20!B42 -> #DIV/0! | G22: =Employee20!B43 -> #DIV/0! | H22: =Employee20!B44 -> #DIV/0!
A23: Employee 21 | B23: =Employee21!B1 -> 0 | C23: =Employee21!E40 -> 0 | D23: =Employee21!E41 -> 0 | E23: =Employee21!E42 -> 0 | F23: =Employee21!B42 -> #DIV/0! | G23: =Employee21!B43 -> #DIV/0! | H23: =Employee21!B44 -> #DIV/0!
A24: Employee 22 | B24: =Employee22!B1 -> 0 | C24: =Employee22!E40 -> 0 | D24: =Employee22!E41 -> 0 | E24: =Employee22!E42 -> 0 | F24: =Employee22!B42 -> #DIV/0! | G24: =Employee22!B43 -> #DIV/0! | H24: =Employee22!B44 -> #DIV/0!
A25: Employee 23 | B25: =Employee23!B1 -> 0 | C25: =Employee23!E40 -> 0 | D25: =Employee23!E41 -> 0 | E25: =Employee23!E42 -> 0 | F25: =Employee23!B42 -> #DIV/0! | G25: =Employee23!B43 -> #DIV/0! | H25: =Employee23!B44 -> #DIV/0!
A26: Employee 24 | B26: =Employee24!B1 -> 0 | C26: =Employee24!E40 -> 0 | D26: =Employee24!E41 -> 0 | E26: =Employee24!E42 -> 0 | F26: =Employee24!B42 -> #DIV/0! | G26: =Employee24!B43 -> #DIV/0! | H26: =Employee24!B44 -> #DIV/0!
A27: Employee 25 | B27: =Employee25!B1 -> 0 | C27: =Employee25!E40 -> 0 | D27: =Employee25!E41 -> 0 | E27: =Employee25!E42 -> 0 | F27: =Employee25!B42 -> #DIV/0! | G27: =Employee25!B43 -> #DIV/0! | H27: =Employee25!B44 -> #DIV/0!

Sheet Employee Example
A1: Job Title: | B1: Classroom Teacher | F1: Time Conversion Chart
F2: 1hr | G2: 1
A3: Assigned Duties: | B3: Non-CACFP Time | C3: CACFP Food Service Duties | D3: CACFP Administrative Duties | F3: 30 min | G3: 0.5
A4: Childcare | B4: 30 | F4: 15 min | G4: 0.25
A5: Bus Duty | B5: 0.5
A6: Meal Counts | D6: 2
A7: Preparing PM Snack | C7: 2.5 | F7: Enter the time per duty for 1 Week
A8: Cleaning tables before and after snack | C8: 2.5
A9: Classroom Bulleton Boards | B9: 1
A10: Lesson plan prep for following week | B10: 1.5
B38: =SUM(B4:B37) -> 33 | C38: =SUM(C4:C37) -> 5 | D38: =SUM(D4:D37) -> 2
D39: ENTER INTO BUDGET:
A40: Total Hours Position Assigned Per Week: | B40: =B38+C38+D38 -> 40 | D40: Total Hours in a month | E40: =B40*4.33 -> 173.2
D41: (B) Operating Tab - Monthly CACFP Hours | E41: =C38*4.33 -> 21.65
A42: % Non-CACFP Time | B42: =B38/B40 -> 0.825 | D42: (C) Administrative Tab- Monthly CACFP Hours | E42: =D38*4.33 -> 8.66
A43: % CACFP Food Service | B43: =C38/B40 -> 0.125
A44: % CACFP Administrative | B44: =D38/B40 -> 0.05
B45: =SUM(B42:B44) -> 1

Sheet Employee1
A1: Job Title: | F1: Time Conversion Chart
F2: 1hr | G2: 1
A3: Assigned Duties: | B3: Non-CACFP Time | C3: CACFP Food Service Duties | D3: CACFP Administrative Duties | F3: 30 min | G3: 0.5
F4: 15 min | G4: 0.25
F7: Enter the time per duty for 1 Week
B38: =SUM(B4:B37) -> 0 | C38: =SUM(C4:C37) -> 0 | D38: =SUM(D4:D37) -> 0
D39: ENTER INTO BUDGET:
A40: Total Hours Position Assigned Per Week: | B40: =B38+C38+D38 -> 0 | D40: Total Hours in a month | E40: =B40*4.33 -> 0
D41: (B) Operating Tab - Monthly CACFP Hours | E41: =C38*4.33 -> 0
A42: % Non-CACFP Time | B42: =B38/B40 -> #DIV/0! | D42: (C) Administrative Tab- Monthly CACFP Hours | E42: =D38*4.33 -> 0
A43: % CACFP Food Service | B43: =C38/B40 -> #DIV/0!
A44: % CACFP Administrative | B44: =D38/B40 -> #DIV/0!
B45: =SUM(B42:B44) -> #DIV/0!

Sheet Employee2
A1: Job Title: | F1: Time Conversion Chart
F2: 1hr | G2: 1
A3: Assigned Duties: | B3: Non-CACFP Time | C3: CACFP Food Service Duties | D3: CACFP Administrative Duties | F3: 30 min | G3: 0.5
F4: 15 min | G4: 0.25
F7: Enter the time per duty for 1 Week
B38: =SUM(B4:B37) -> 0 | C38: =SUM(C4:C37) -> 0 | D38: =SUM(D4:D37) -> 0
D39: ENTER INTO BUDGET:
A40: Total Hours Position Assigned Per Week: | B40: =B38+C38+D38 -> 0 | D40: Total Hours in a month | E40: =B40*4.33 -> 0
D41: (B) Operating Tab - Monthly CACFP Hours | E41: =C38*4.33 -> 0
A42: % Non-CACFP Time | B42: =B38/B40 -> #DIV/0! | D42: (C) Administrative Tab- Monthly CACFP Hours | E42: =D38*4.33 -> 0
A43: % CACFP Food Service | B43: =C38/B40 -> #DIV/0!
A44: % CACFP Administrative | B44: =D38/B40 -> #DIV/0!
B45: =SUM(B42:B44) -> #DIV/0!

Sheet Employee3
A1: Job Title: | F1: Time Conversion Chart
F2: 1hr | G2: 1
A3: Assigned Duties: | B3: Non-CACFP Time | C3: CACFP Food Service Duties | D3: CACFP Administrative Duties | F3: 30 min | G3: 0.5
F4: 15 min | G4: 0.25
F7: Enter the time per duty for 1 Week
B38: =SUM(B4:B37) -> 0 | C38: =SUM(C4:C37) -> 0 | D38: =SUM(D4:D37) -> 0
D39: ENTER INTO BUDGET:
A40: Total Hours Position Assigned Per Week: | B40: =B38+C38+D38 -> 0 | D40: Total Hours in a month | E40: =B40*4.33 -> 0
D41: (B) Operating Tab - Monthly CACFP Hours | E41: =C38*4.33 -> 0
A42: % Non-CACFP Time | B42: =B38/B40 -> #DIV/0! | D42: (C) Administrative Tab- Monthly CACFP Hours | E42: =D38*4.33 -> 0
A43: % CACFP Food Service | B43: =C38/B40 -> #DIV/0!
A44: % CACFP Administrative | B44: =D38/B40 -> #DIV/0!
B45: =SUM(B42:B44) -> #DIV/0!

Sheet Employee4
A1: Job Title: | F1: Time Conversion Chart
F2: 1hr | G2: 1
A3: Assigned Duties: | B3: Non-CACFP Time | C3: CACFP Food Service Duties | D3: CACFP Administrative Duties | F3: 30 min | G3: 0.5
F4: 15 min | G4: 0.25
F7: Enter the time per duty for 1 Week
B38: =SUM(B4:B37) -> 0 | C38: =SUM(C4:C37) -> 0 | D38: =SUM(D4:D37) -> 0
D39: ENTER INTO BUDGET:
A40: Total Hours Position Assigned Per Week: | B40: =B38+C38+D38 -> 0 | D40: Total Hours in a month | E40: =B40*4.33 -> 0
D41: (B) Operating Tab - Monthly CACFP Hours | E41: =C38*4.33 -> 0
A42: % Non-CACFP Time | B42: =B38/B40 -> #DIV/0! | D42: (C) Administrative Tab- Monthly CACFP Hours | E42: =D38*4.33 -> 0
A43: % CACFP Food Service | B43: =C38/B40 -> #DIV/0!
A44: % CACFP Administrative | B44: =D38/B40 -> #DIV/0!
B45: =SUM(B42:B44) -> #DIV/0!

Sheet Employee5
A1: Job Title: | F1: Time Conversion Chart
F2: 1hr | G2: 1
A3: Assigned Duties: | B3: Non-CACFP Time | C3: CACFP Food Service Duties | D3: CACFP Administrative Duties | F3: 30 min | G3: 0.5
F4: 15 min | G4: 0.25
F7: Enter the time per duty for 1 Week
B38: =SUM(B4:B37) -> 0 | C38: =SUM(C4:C37) -> 0 | D38: =SUM(D4:D37) -> 0
D39: ENTER INTO BUDGET:
A40: Total Hours Position Assigned Per Week: | B40: =B38+C38+D38 -> 0 | D40: Total Hours in a month | E40: =B40*4.33 -> 0
D41: (B) Operating Tab - Monthly CACFP Hours | E41: =C38*4.33 -> 0
A42: % Non-CACFP Time | B42: =B38/B40 -> #DIV/0! | D42: (C) Administrative Tab- Monthly CACFP Hours | E42: =D38*4.33 -> 0
A43: % CACFP Food Service | B43: =C38/B40 -> #DIV/0!
A44: % CACFP Administrative | B44: =D38/B40 -> #DIV/0!
B45: =SUM(B42:B44) -> #DIV/0!

Sheet Employee6
A1: Job Title: | F1: Time Conversion Chart
F2: 1hr | G2: 1
A3: Assigned Duties: | B3: Non-CACFP Time | C3: CACFP Food Service Duties | D3: CACFP Administrative Duties | F3: 30 min | G3: 0.5
F4: 15 min | G4: 0.25
F7: Enter the time per duty for 1 Week
B38: =SUM(B4:B37) -> 0 | C38: =SUM(C4:C37) -> 0 | D38: =SUM(D4:D37) -> 0
D39: ENTER INTO BUDGET:
A40: Total Hours Position Assigned Per Week: | B40: =B38+C38+D38 -> 0 | D40: Total Hours in a month | E40: =B40*4.33 -> 0
D41: (B) Operating Tab - Monthly CACFP Hours | E41: =C38*4.33 -> 0
A42: % Non-CACFP Time | B42: =B38/B40 -> #DIV/0! | D42: (C) Administrative Tab- Monthly CACFP Hours | E42: =D38*4.33 -> 0
A43: % CACFP Food Service | B43: =C38/B40 -> #DIV/0!
A44: % CACFP Administrative | B44: =D38/B40 -> #DIV/0!
B45: =SUM(B42:B44) -> #DIV/0!

Sheet Employee7
A1: Job Title: | F1: Time Conversion Chart
F2: 1hr | G2: 1
A3: Assigned Duties: | B3: Non-CACFP Time | C3: CACFP Food Service Duties | D3: CACFP Administrative Duties | F3: 30 min | G3: 0.5
F4: 15 min | G4: 0.25
F7: Enter the time per duty for 1 Week
B38: =SUM(B4:B37) -> 0 | C38: =SUM(C4:C37) -> 0 | D38: =SUM(D4:D37) -> 0
D39: ENTER INTO BUDGET:
A40: Total Hours Position Assigned Per Week: | B40: =B38+C38+D38 -> 0 | D40: Total Hours in a month | E40: =B40*4.33 -> 0
D41: (B) Operating Tab - Monthly CACFP Hours | E41: =C38*4.33 -> 0
A42: % Non-CACFP Time | B42: =B38/B40 -> #DIV/0! | D42: (C) Administrative Tab- Monthly CACFP Hours | E42: =D38*4.33 -> 0
A43: % CACFP Food Service | B43: =C38/B40 -> #DIV/0!
A44: % CACFP Administrative | B44: =D38/B40 -> #DIV/0!
B45: =SUM(B42:B44) -> #DIV/0!

Sheet Employee8
A1: Job Title: | F1: Time Conversion Chart
F2: 1hr | G2: 1
A3: Assigned Duties: | B3: Non-CACFP Time | C3: CACFP Food Service Duties | D3: CACFP Administrative Duties | F3: 30 min | G3: 0.5
F4: 15 min | G4: 0.25
F7: Enter the time per duty for 1 Week
B38: =SUM(B4:B37) -> 0 | C38: =SUM(C4:C37) -> 0 | D38: =SUM(D4:D37) -> 0
D39: ENTER INTO BUDGET:
A40: Total Hours Position Assigned Per Week: | B40: =B38+C38+D38 -> 0 | D40: Total Hours in a month | E40: =B40*4.33 -> 0
D41: (B) Operating Tab - Monthly CACFP Hours | E41: =C38*4.33 -> 0
A42: % Non-CACFP Time | B42: =B38/B40 -> #DIV/0! | D42: (C) Administrative Tab- Monthly CACFP Hours | E42: =D38*4.33 -> 0
A43: % CACFP Food Service | B43: =C38/B40 -> #DIV/0!
A44: % CACFP Administrative | B44: =D38/B40 -> #DIV/0!
B45: =SUM(B42:B44) -> #DIV/0!

Sheet Employee9
A1: Job Title: | F1: Time Conversion Chart
F2: 1hr | G2: 1
A3: Assigned Duties: | B3: Non-CACFP Time | C3: CACFP Food Service Duties | D3: CACFP Administrative Duties | F3: 30 min | G3: 0.5
F4: 15 min | G4: 0.25
F7: Enter the time per duty for 1 Week
B38: =SUM(B4:B37) -> 0 | C38: =SUM(C4:C37) -> 0 | D38: =SUM(D4:D37) -> 0
D39: ENTER INTO BUDGET:
A40: Total Hours Position Assigned Per Week: | B40: =B38+C38+D38 -> 0 | D40: Total Hours in a month | E40: =B40*4.33 -> 0
D41: (B) Operating Tab - Monthly CACFP Hours | E41: =C38*4.33 -> 0
A42: % Non-CACFP Time | B42: =B38/B40 -> #DIV/0! | D42: (C) Administrative Tab- Monthly CACFP Hours | E42: =D38*4.33 -> 0
A43: % CACFP Food Service | B43: =C38/B40 -> #DIV/0!
A44: % CACFP Administrative | B44: =D38/B40 -> #DIV/0!
B45: =SUM(B42:B44) -> #DIV/0!

Sheet Employee10
A1: Job Title: | F1: Time Conversion Chart
F2: 1hr | G2: 1
A3: Assigned Duties: | B3: Non-CACFP Time | C3: CACFP Food Service Duties | D3: CACFP Administrative Duties | F3: 30 min | G3: 0.5
F4: 15 min | G4: 0.25
F7: Enter the time per duty for 1 Week
B38: =SUM(B4:B37) -> 0 | C38: =SUM(C4:C37) -> 0 | D38: =SUM(D4:D37) -> 0
D39: ENTER INTO BUDGET:
A40: Total Hours Position Assigned Per Week: | B40: =B38+C38+D38 -> 0 | D40: Total Hours in a month | E40: =B40*4.33 -> 0
D41: (B) Operating Tab - Monthly CACFP Hours | E41: =C38*4.33 -> 0
A42: % Non-CACFP Time | B42: =B38/B40 -> #DIV/0! | D42: (C) Administrative Tab- Monthly CACFP Hours | E42: =D38*4.33 -> 0
A43: % CACFP Food Service | B43: =C38/B40 -> #DIV/0!
A44: % CACFP Administrative | B44: =D38/B40 -> #DIV/0!
B45: =SUM(B42:B44) -> #DIV/0!

Sheet Employee11
A1: Job Title: | F1: Time Conversion Chart
F2: 1hr | G2: 1
A3: Assigned Duties: | B3: Non-CACFP Time | C3: CACFP Food Service Duties | D3: CACFP Administrative Duties | F3: 30 min | G3: 0.5
F4: 15 min | G4: 0.25
F7: Enter the time per duty for 1 Week
B38: =SUM(B4:B37) -> 0 | C38: =SUM(C4:C37) -> 0 | D38: =SUM(D4:D37) -> 0
D39: ENTER INTO BUDGET:
A40: Total Hours Position Assigned Per Week: | B40: =B38+C38+D38 -> 0 | D40: Total Hours in a month | E40: =B40*4.33 -> 0
D41: (B) Operating Tab - Monthly CACFP Hours | E41: =C38*4.33 -> 0
A42: % Non-CACFP Time | B42: =B38/B40 -> #DIV/0! | D42: (C) Administrative Tab- Monthly CACFP Hours | E42: =D38*4.33 -> 0
A43: % CACFP Food Service | B43: =C38/B40 -> #DIV/0!
A44: % CACFP Administrative | B44: =D38/B40 -> #DIV/0!
B45: =SUM(B42:B44) -> #DIV/0!

Sheet Employee12
A1: Job Title: | F1: Time Conversion Chart
F2: 1hr | G2: 1
A3: Assigned Duties: | B3: Non-CACFP Time | C3: CACFP Food Service Duties | D3: CACFP Administrative Duties | F3: 30 min | G3: 0.5
F4: 15 min | G4: 0.25
F7: Enter the time per duty for 1 Week
B38: =SUM(B4:B37) -> 0 | C38: =SUM(C4:C37) -> 0 | D38: =SUM(D4:D37) -> 0
D39: ENTER INTO BUDGET:
A40: Total Hours Position Assigned Per Week: | B40: =B38+C38+D38 -> 0 | D40: Total Hours in a month | E40: =B40*4.33 -> 0
D41: (B) Operating Tab - Monthly CACFP Hours | E41: =C38*4.33 -> 0
A42: % Non-CACFP Time | B42: =B38/B40 -> #DIV/0! | D42: (C) Administrative Tab- Monthly CACFP Hours | E42: =D38*4.33 -> 0
A43: % CACFP Food Service | B43: =C38/B40 -> #DIV/0!
A44: % CACFP Administrative | B44: =D38/B40 -> #DIV/0!
B45: =SUM(B42:B44) -> #DIV/0!

Sheet Employee13
A1: Job Title: | F1: Time Conversion Chart
F2: 1hr | G2: 1
A3: Assigned Duties: | B3: Non-CACFP Time | C3: CACFP Food Service Duties | D3: CACFP Administrative Duties | F3: 30 min | G3: 0.5
F4: 15 min | G4: 0.25
F7: Enter the time per duty for 1 Week
B38: =SUM(B4:B37) -> 0 | C38: =SUM(C4:C37) -> 0 | D38: =SUM(D4:D37) -> 0
D39: ENTER INTO BUDGET:
A40: Total Hours Position Assigned Per Week: | B40: =B38+C38+D38 -> 0 | D40: Total Hours in a month | E40: =B40*4.33 -> 0
D41: (B) Operating Tab - Monthly CACFP Hours | E41: =C38*4.33 -> 0
A42: % Non-CACFP Time | B42: =B38/B40 -> #DIV/0! | D42: (C) Administrative Tab- Monthly CACFP Hours | E42: =D38*4.33 -> 0
A43: % CACFP Food Service | B43: =C38/B40 -> #DIV/0!
A44: % CACFP Administrative | B44: =D38/B40 -> #DIV/0!
B45: =SUM(B42:B44) -> #DIV/0!

Sheet Employee14
A1: Job Title: | F1: Time Conversion Chart
F2: 1hr | G2: 1
A3: Assigned Duties: | B3: Non-CACFP Time | C3: CACFP Food Service Duties | D3: CACFP Administrative Duties | F3: 30 min | G3: 0.5
F4: 15 min | G4: 0.25
F7: Enter the time per duty for 1 Week
B38: =SUM(B4:B37) -> 0 | C38: =SUM(C4:C37) -> 0 | D38: =SUM(D4:D37) -> 0
D39: ENTER INTO BUDGET:
A40: Total Hours Position Assigned Per Week: | B40: =B38+C38+D38 -> 0 | D40: Total Hours in a month | E40: =B40*4.33 -> 0
D41: (B) Operating Tab - Monthly CACFP Hours | E41: =C38*4.33 -> 0
A42: % Non-CACFP Time | B42: =B38/B40 -> #DIV/0! | D42: (C) Administrative Tab- Monthly CACFP Hours | E42: =D38*4.33 -> 0
A43: % CACFP Food Service | B43: =C38/B40 -> #DIV/0!
A44: % CACFP Administrative | B44: =D38/B40 -> #DIV/0!
B45: =SUM(B42:B44) -> #DIV/0!

Sheet Employee15
A1: Job Title: | F1: Time Conversion Chart
F2: 1hr | G2: 1
A3: Assigned Duties: | B3: Non-CACFP Time | C3: CACFP Food Service Duties | D3: CACFP Administrative Duties | F3: 30 min | G3: 0.5
F4: 15 min | G4: 0.25
F7: Enter the time per duty for 1 Week
B38: =SUM(B4:B37) -> 0 | C38: =SUM(C4:C37) -> 0 | D38: =SUM(D4:D37) -> 0
D39: ENTER INTO BUDGET:
A40: Total Hours Position Assigned Per Week: | B40: =B38+C38+D38 -> 0 | D40: Total Hours in a month | E40: =B40*4.33 -> 0
D41: (B) Operating Tab - Monthly CACFP Hours | E41: =C38*4.33 -> 0
A42: % Non-CACFP Time | B42: =B38/B40 -> #DIV/0! | D42: (C) Administrative Tab- Monthly CACFP Hours | E42: =D38*4.33 -> 0
A43: % CACFP Food Service | B43: =C38/B40 -> #DIV/0!
A44: % CACFP Administrative | B44: =D38/B40 -> #DIV/0!
B45: =SUM(B42:B44) -> #DIV/0!

Sheet Employee16
A1: Job Title: | F1: Time Conversion Chart
F2: 1hr | G2: 1
A3: Assigned Duties: | B3: Non-CACFP Time | C3: CACFP Food Service Duties | D3: CACFP Administrative Duties | F3: 30 min | G3: 0.5
F4: 15 min | G4: 0.25
F7: Enter the time per duty for 1 Week
B38: =SUM(B4:B37) -> 0 | C38: =SUM(C4:C37) -> 0 | D38: =SUM(D4:D37) -> 0
D39: ENTER INTO BUDGET:
A40: Total Hours Position Assigned Per Week: | B40: =B38+C38+D38 -> 0 | D40: Total Hours in a month | E40: =B40*4.33 -> 0
D41: (B) Operating Tab - Monthly CACFP Hours | E41: =C38*4.33 -> 0
A42: % Non-CACFP Time | B42: =B38/B40 -> #DIV/0! | D42: (C) Administrative Tab- Monthly CACFP Hours | E42: =D38*4.33 -> 0
A43: % CACFP Food Service | B43: =C38/B40 -> #DIV/0!
A44: % CACFP Administrative | B44: =D38/B40 -> #DIV/0!
B45: =SUM(B42:B44) -> #DIV/0!

Sheet Employee17
A1: Job Title: | F1: Time Conversion Chart
F2: 1hr | G2: 1
A3: Assigned Duties: | B3: Non-CACFP Time | C3: CACFP Food Service Duties | D3: CACFP Administrative Duties | F3: 30 min | G3: 0.5
F4: 15 min | G4: 0.25
F7: Enter the time per duty for 1 Week
B38: =SUM(B4:B37) -> 0 | C38: =SUM(C4:C37) -> 0 | D38: =SUM(D4:D37) -> 0
D39: ENTER INTO BUDGET:
A40: Total Hours Position Assigned Per Week: | B40: =B38+C38+D38 -> 0 | D40: Total Hours in a month | E40: =B40*4.33 -> 0
D41: (B) Operating Tab - Monthly CACFP Hours | E41: =C38*4.33 -> 0
A42: % Non-CACFP Time | B42: =B38/B40 -> #DIV/0! | D42: (C) Administrative Tab- Monthly CACFP Hours | E42: =D38*4.33 -> 0
A43: % CACFP Food Service | B43: =C38/B40 -> #DIV/0!
A44: % CACFP Administrative | B44: =D38/B40 -> #DIV/0!
B45: =SUM(B42:B44) -> #DIV/0!

Sheet Employee18
A1: Job Title: | F1: Time Conversion Chart
F2: 1hr | G2: 1
A3: Assigned Duties: | B3: Non-CACFP Time | C3: CACFP Food Service Duties | D3: CACFP Administrative Duties | F3: 30 min | G3: 0.5
F4: 15 min | G4: 0.25
F7: Enter the time per duty for 1 Week
B38: =SUM(B4:B37) -> 0 | C38: =SUM(C4:C37) -> 0 | D38: =SUM(D4:D37) -> 0
D39: ENTER INTO BUDGET:
A40: Total Hours Position Assigned Per Week: | B40: =B38+C38+D38 -> 0 | D40: Total Hours in a month | E40: =B40*4.33 -> 0
D41: (B) Operating Tab - Monthly CACFP Hours | E41: =C38*4.33 -> 0
A42: % Non-CACFP Time | B42: =B38/B40 -> #DIV/0! | D42: (C) Administrative Tab- Monthly CACFP Hours | E42: =D38*4.33 -> 0
A43: % CACFP Food Service | B43: =C38/B40 -> #DIV/0!
A44: % CACFP Administrative | B44: =D38/B40 -> #DIV/0!
B45: =SUM(B42:B44) -> #DIV/0!

Sheet Employee19
A1: Job Title: | F1: Time Conversion Chart
F2: 1hr | G2: 1
A3: Assigned Duties: | B3: Non-CACFP Time | C3: CACFP Food Service Duties | D3: CACFP Administrative Duties | F3: 30 min | G3: 0.5
F4: 15 min | G4: 0.25
F7: Enter the time per duty for 1 Week
B38: =SUM(B4:B37) -> 0 | C38: =SUM(C4:C37) -> 0 | D38: =SUM(D4:D37) -> 0
D39: ENTER INTO BUDGET:
A40: Total Hours Position Assigned Per Week: | B40: =B38+C38+D38 -> 0 | D40: Total Hours in a month | E40: =B40*4.33 -> 0
D41: (B) Operating Tab - Monthly CACFP Hours | E41: =C38*4.33 -> 0
A42: % Non-CACFP Time | B42: =B38/B40 -> #DIV/0! | D42: (C) Administrative Tab- Monthly CACFP Hours | E42: =D38*4.33 -> 0
A43: % CACFP Food Service | B43: =C38/B40 -> #DIV/0!
A44: % CACFP Administrative | B44: =D38/B40 -> #DIV/0!
B45: =SUM(B42:B44) -> #DIV/0!

Sheet Employee20
A1: Job Title: | F1: Time Conversion Chart
F2: 1hr | G2: 1
A3: Assigned Duties: | B3: Non-CACFP Time | C3: CACFP Food Service Duties | D3: CACFP Administrative Duties | F3: 30 min | G3: 0.5
F4: 15 min | G4: 0.25
F7: Enter the time per duty for 1 Week
B38: =SUM(B4:B37) -> 0 | C38: =SUM(C4:C37) -> 0 | D38: =SUM(D4:D37) -> 0
D39: ENTER INTO BUDGET:
A40: Total Hours Position Assigned Per Week: | B40: =B38+C38+D38 -> 0 | D40: Total Hours in a month | E40: =B40*4.33 -> 0
D41: (B) Operating Tab - Monthly CACFP Hours | E41: =C38*4.33 -> 0
A42: % Non-CACFP Time | B42: =B38/B40 -> #DIV/0! | D42: (C) Administrative Tab- Monthly CACFP Hours | E42: =D38*4.33 -> 0
A43: % CACFP Food Service | B43: =C38/B40 -> #DIV/0!
A44: % CACFP Administrative | B44: =D38/B40 -> #DIV/0!
B45: =SUM(B42:B44) -> #DIV/0!

Sheet Employee21
A1: Job Title: | F1: Time Conversion Chart
F2: 1hr | G2: 1
A3: Assigned Duties: | B3: Non-CACFP Time | C3: CACFP Food Service Duties | D3: CACFP Administrative Duties | F3: 30 min | G3: 0.5
F4: 15 min | G4: 0.25
F7: Enter the time per duty for 1 Week
B38: =SUM(B4:B37) -> 0 | C38: =SUM(C4:C37) -> 0 | D38: =SUM(D4:D37) -> 0
D39: ENTER INTO BUDGET:
A40: Total Hours Position Assigned Per Week: | B40: =B38+C38+D38 -> 0 | D40: Total Hours in a month | E40: =B40*4.33 -> 0
D41: (B) Operating Tab - Monthly CACFP Hours | E41: =C38*4.33 -> 0
A42: % Non-CACFP Time | B42: =B38/B40 -> #DIV/0! | D42: (C) Administrative Tab- Monthly CACFP Hours | E42: =D38*4.33 -> 0
A43: % CACFP Food Service | B43: =C38/B40 -> #DIV/0!
A44: % CACFP Administrative | B44: =D38/B40 -> #DIV/0!
B45: =SUM(B42:B44) -> #DIV/0!

Sheet Employee22
A1: Job Title: | F1: Time Conversion Chart
F2: 1hr | G2: 1
A3: Assigned Duties: | B3: Non-CACFP Time | C3: CACFP Food Service Duties | D3: CACFP Administrative Duties | F3: 30 min | G3: 0.5
F4: 15 min | G4: 0.25
F7: Enter the time per duty for 1 Week
B38: =SUM(B4:B37) -> 0 | C38: =SUM(C4:C37) -> 0 | D38: =SUM(D4:D37) -> 0
D39: ENTER INTO BUDGET:
A40: Total Hours Position Assigned Per Week: | B40: =B38+C38+D38 -> 0 | D40: Total Hours in a month | E40: =B40*4.33 -> 0
D41: (B) Operating Tab - Monthly CACFP Hours | E41: =C38*4.33 -> 0
A42: % Non-CACFP Time | B42: =B38/B40 -> #DIV/0! | D42: (C) Administrative Tab- Monthly CACFP Hours | E42: =D38*4.33 -> 0
A43: % CACFP Food Service | B43: =C38/B40 -> #DIV/0!
A44: % CACFP Administrative | B44: =D38/B40 -> #DIV/0!
B45: =SUM(B42:B44) -> #DIV/0!

Sheet Employee23
A1: Job Title: | F1: Time Conversion Chart
F2: 1hr | G2: 1
A3: Assigned Duties: | B3: Non-CACFP Time | C3: CACFP Food Service Duties | D3: CACFP Administrative Duties | F3: 30 min | G3: 0.5
F4: 15 min | G4: 0.25
F7: Enter the time per duty for 1 Week
B38: =SUM(B4:B37) -> 0 | C38: =SUM(C4:C37) -> 0 | D38: =SUM(D4:D37) -> 0
D39: ENTER INTO BUDGET:
A40: Total Hours Position Assigned Per Week: | B40: =B38+C38+D38 -> 0 | D40: Total Hours in a month | E40: =B40*4.33 -> 0
D41: (B) Operating Tab - Monthly CACFP Hours | E41: =C38*4.33 -> 0
A42: % Non-CACFP Time | B42: =B38/B40 -> #DIV/0! | D42: (C) Administrative Tab- Monthly CACFP Hours | E42: =D38*4.33 -> 0
A43: % CACFP Food Service | B43: =C38/B40 -> #DIV/0!
A44: % CACFP Administrative | B44: =D38/B40 -> #DIV/0!
B45: =SUM(B42:B44) -> #DIV/0!

Sheet Employee24
A1: Job Title: | F1: Time Conversion Chart
F2: 1hr | G2: 1
A3: Assigned Duties: | B3: Non-CACFP Time | C3: CACFP Food Service Duties | D3: CACFP Administrative Duties | F3: 30 min | G3: 0.5
F4: 15 min | G4: 0.25
F7: Enter the time per duty for 1 Week
B38: =SUM(B4:B37) -> 0 | C38: =SUM(C4:C37) -> 0 | D38: =SUM(D4:D37) -> 0
D39: ENTER INTO BUDGET:
A40: Total Hours Position Assigned Per Week: | B40: =B38+C38+D38 -> 0 | D40: Total Hours in a month | E40: =B40*4.33 -> 0
D41: (B) Operating Tab - Monthly CACFP Hours | E41: =C38*4.33 -> 0
A42: % Non-CACFP Time | B42: =B38/B40 -> #DIV/0! | D42: (C) Administrative Tab- Monthly CACFP Hours | E42: =D38*4.33 -> 0
A43: % CACFP Food Service | B43: =C38/B40 -> #DIV/0!
A44: % CACFP Administrative | B44: =D38/B40 -> #DIV/0!
B45: =SUM(B42:B44) -> #DIV/0!

Sheet Employee25
A1: Job Title: | F1: Time Conversion Chart
F2: 1hr | G2: 1
A3: Assigned Duties: | B3: Non-CACFP Time | C3: CACFP Food Service Duties | D3: CACFP Administrative Duties | F3: 30 min | G3: 0.5
F4: 15 min | G4: 0.25
F7: Enter the time per duty for 1 Week
B38: =SUM(B4:B37) -> 0 | C38: =SUM(C4:C37) -> 0 | D38: =SUM(D4:D37) -> 0
D39: ENTER INTO BUDGET:
A40: Total Hours Position Assigned Per Week: | B40: =B38+C38+D38 -> 0 | D40: Total Hours in a month | E40: =B40*4.33 -> 0
D41: (B) Operating Tab - Monthly CACFP Hours | E41: =C38*4.33 -> 0
A42: % Non-CACFP Time | B42: =B38/B40 -> #DIV/0! | D42: (C) Administrative Tab- Monthly CACFP Hours | E42: =D38*4.33 -> 0
A43: % CACFP Food Service | B43: =C38/B40 -> #DIV/0!
A44: % CACFP Administrative | B44: =D38/B40 -> #DIV/0!
B45: =SUM(B42:B44) -> #DIV/0!
